BEGIN:VCALENDAR
VERSION:2.0
PRODID:-//DOC D&#039;Occ - ECPv6.15.17.1//NONSGML v1.0//EN
CALSCALE:GREGORIAN
METHOD:PUBLISH
X-ORIGINAL-URL:https://docdocc31.fr
X-WR-CALDESC:Évènements pour DOC D&#039;Occ
REFRESH-INTERVAL;VALUE=DURATION:PT1H
X-Robots-Tag:noindex
X-PUBLISHED-TTL:PT1H
BEGIN:VTIMEZONE
TZID:UTC
BEGIN:STANDARD
TZOFFSETFROM:+0000
TZOFFSETTO:+0000
TZNAME:UTC
DTSTART:20230101T000000
END:STANDARD
END:VTIMEZONE
BEGIN:VEVENT
DTSTART;VALUE=DATE:20240930
DTEND;VALUE=DATE:20241002
DTSTAMP:20260420T142220
CREATED:20240117T075128Z
LAST-MODIFIED:20240215T144613Z
UID:720-1727654400-1727827199@docdocc31.fr
SUMMARY:WE Piste au Castellet les 30 Sept et 1er Oct
DESCRIPTION:Le DOC D’OCC vous informe que Ducati Toulouse organise un Week-End « Ducati Track Experience » les 30 Septembre et 1er Octobre 2024 sur le circuit du Castelet. Le Box sera offert et Ducati Toulouse propose également pour vos machines un service de transport et même assistance sur le circuit.\nLes membres du DOC D’OCC sont invités à contacter Jeremy Usclade pour plus d’information (+33 (0)5 61 00 20 20 — jeremy@delahayemotors.fr)\nA bientôt sur les pistes…
URL:https://docdocc31.fr/event/we-piste-au-castellet-les-30-sept-et-1er-oct
ATTACH;FMTTYPE=image/jpeg:https://docdocc31.fr/wp-content/uploads/2024/01/Castellet.jpg
END:VEVENT
BEGIN:VEVENT
DTSTART;TZID=UTC:20241006T113000
DTEND;TZID=UTC:20241006T170000
DTSTAMP:20260420T142220
CREATED:20240712T172234Z
LAST-MODIFIED:20240903T174957Z
UID:811-1728214200-1728234000@docdocc31.fr
SUMMARY:BBQ  du CLUB DIMANCHE  6 OCT à partir de 11h30
DESCRIPTION:DIMANCHE 6 OCTOBRE  BBQ\nOuvert aux familles et à nos  amis motards non membres.\nAu programme \, Apero  a partir de 11h30 – Pétanque pour les amateurs – BBQ  Démonstration produits UNPLASS   et présentation des produits du Clubs\nRESERVATION AVANT LE 1 OCT\n10 euros pour les conjoint(e)  et enfants de plus de 11 ans\n5 € pour les enfant de moins de 10 ans\nPour nos amis motard non membres 15 €.\nMerci de préciser le nombre de participant via le groupe WhatsApp ou par mail à l adresse docdocc31@gmail.com\nMerci de régler  par virement  sur le compte du club pour les non membres\n IBAN FR76 3000 3020 6900 0372 9859 959 – (BIC) SOGEFRPP 
URL:https://docdocc31.fr/event/bbq-du-club
LOCATION:CSE Liebherr\, 17 rue Gustave Eiffel\, Aucamville\, 31140\, France
CATEGORIES:Rencontres
ORGANIZER;CN="Club DOC D'Occ":MAILTO:Docdocc31@gmail.com
END:VEVENT
BEGIN:VEVENT
DTSTART;TZID=UTC:20241012T090000
DTEND;TZID=UTC:20241012T170000
DTSTAMP:20260420T142220
CREATED:20240903T180441Z
LAST-MODIFIED:20240904T172516Z
UID:1592-1728723600-1728752400@docdocc31.fr
SUMMARY:SORTIE OCTOBRE ROSE Samedi 12 10
DESCRIPTION:MESDAMES SORTEZ VOTRE AGENDA ET RESERVEZ CETTE DATE\n\nUne sortie entre filles en préparation – tous niveaux  sans difficultés \nSortie de 200 km sur la journée ponctuée par des arrets ludiques \nune pause  déjeuner et un final tout en douceur \n 
URL:https://docdocc31.fr/event/sortie-octobre-rose
END:VEVENT
BEGIN:VEVENT
DTSTART;VALUE=DATE:20241027
DTEND;VALUE=DATE:20241029
DTSTAMP:20260420T142220
CREATED:20240117T075408Z
LAST-MODIFIED:20240316T145756Z
UID:722-1729987200-1730159999@docdocc31.fr
SUMMARY:WE Piste Aragon les 27-28 Octobre 2024
DESCRIPTION:Le DOC D’OCC vous informe que Ducati Toulouse organise un Week-End piste les 27 et 28 Octobre 2024 sur le circuit Motorland d’Aragon avec l’école de pilotage Box23. Le Box sera offert et Ducati Toulouse propose également pour vos machines un service de transport et même assistance sur le circuit.\nLes membres du DOC D’OCC sont invités à contacter Jeremy Usclade pour plus d’information (+33 (0)5 61 00 20 20 — jeremy@delahayemotors.fr)\nA bientôt sur les pistes…
URL:https://docdocc31.fr/event/we-piste-aragon-les-27-28-octobre-2024
CATEGORIES:Piste
ATTACH;FMTTYPE=image/png:https://docdocc31.fr/wp-content/uploads/2024/01/aragon.png
END:VEVENT
END:VCALENDAR