BEGIN:VCALENDAR
VERSION:2.0
PRODID:-//DOC D&#039;Occ - ECPv6.15.17.1//NONSGML v1.0//EN
CALSCALE:GREGORIAN
METHOD:PUBLISH
X-WR-CALNAME:DOC D&#039;Occ
X-ORIGINAL-URL:https://docdocc31.fr
X-WR-CALDESC:Évènements pour DOC D&#039;Occ
REFRESH-INTERVAL;VALUE=DURATION:PT1H
X-Robots-Tag:noindex
X-PUBLISHED-TTL:PT1H
BEGIN:VTIMEZONE
TZID:UTC
BEGIN:STANDARD
TZOFFSETFROM:+0000
TZOFFSETTO:+0000
TZNAME:UTC
DTSTART:20230101T000000
END:STANDARD
END:VTIMEZONE
BEGIN:VEVENT
DTSTART;TZID=UTC:20241125T080000
DTEND;TZID=UTC:20241125T170000
DTSTAMP:20260420T085953
CREATED:20241125T113723Z
LAST-MODIFIED:20241204T155228Z
UID:1657-1732521600-1732554000@docdocc31.fr
SUMMARY:Balade dans l Aude Sam 30 nov
DESCRIPTION:EN PREPARATION .samedi  29 Novembre  petite balade avec pause déjeuner au vin de dagne https://vinsdedagne.fr/ \n et l’après-midi si c’est possible une visite de la distillerie bows ou bien en secours la vinaigerie de Lagrasse
URL:https://docdocc31.fr/event/balade-dans-l-aude-sam-29-nov
END:VEVENT
END:VCALENDAR