BEGIN:VCALENDAR
VERSION:2.0
PRODID:-//DOC D&#039;Occ - ECPv6.15.17.1//NONSGML v1.0//EN
CALSCALE:GREGORIAN
METHOD:PUBLISH
X-ORIGINAL-URL:https://docdocc31.fr
X-WR-CALDESC:Évènements pour DOC D&#039;Occ
REFRESH-INTERVAL;VALUE=DURATION:PT1H
X-Robots-Tag:noindex
X-PUBLISHED-TTL:PT1H
BEGIN:VTIMEZONE
TZID:UTC
BEGIN:STANDARD
TZOFFSETFROM:+0000
TZOFFSETTO:+0000
TZNAME:UTC
DTSTART:20230101T000000
END:STANDARD
END:VTIMEZONE
BEGIN:VEVENT
DTSTART;TZID=UTC:20240830T193000
DTEND;TZID=UTC:20240830T230000
DTSTAMP:20260422T101903
CREATED:20240821T194609Z
LAST-MODIFIED:20240821T195115Z
UID:1564-1725046200-1725058800@docdocc31.fr
SUMMARY:APERO DES VACANCES
DESCRIPTION:RDV VEND 30 AOUT  19H30  A LA GRAGNAGUETTE \nGuinguette à la Gragnague \nApéro ou/et diner possible  table réservée au nom du DOC D’OCC
URL:https://docdocc31.fr/event/apero-des-vacances
LOCATION:GUINGUETTE  LA GRAGNAGUETTE\, 100 route de l’Argou\, Gragnague\, 31380
CATEGORIES:Apéro/resto,Rencontres
ATTACH;FMTTYPE=image/jpeg:https://docdocc31.fr/wp-content/uploads/2024/08/20240820_211440.jpg
ORGANIZER;CN="Club DOC D'Occ":MAILTO:Docdocc31@gmail.com
END:VEVENT
END:VCALENDAR